BEGIN:VCALENDAR
VERSION:2.0
PRODID:-//National Safety Training Solutions, LLC. - ECPv6.15.15//NONSGML v1.0//EN
CALSCALE:GREGORIAN
METHOD:PUBLISH
X-WR-CALNAME:National Safety Training Solutions, LLC.
X-ORIGINAL-URL:https://nstssafety.org
X-WR-CALDESC:Events for National Safety Training Solutions, LLC.
REFRESH-INTERVAL;VALUE=DURATION:PT1H
X-Robots-Tag:noindex
X-PUBLISHED-TTL:PT1H
BEGIN:VTIMEZONE
TZID:America/Chicago
BEGIN:DAYLIGHT
TZOFFSETFROM:-0600
TZOFFSETTO:-0500
TZNAME:CDT
DTSTART:20240310T080000
END:DAYLIGHT
BEGIN:STANDARD
TZOFFSETFROM:-0500
TZOFFSETTO:-0600
TZNAME:CST
DTSTART:20241103T070000
END:STANDARD
BEGIN:DAYLIGHT
TZOFFSETFROM:-0600
TZOFFSETTO:-0500
TZNAME:CDT
DTSTART:20250309T080000
END:DAYLIGHT
BEGIN:STANDARD
TZOFFSETFROM:-0500
TZOFFSETTO:-0600
TZNAME:CST
DTSTART:20251102T070000
END:STANDARD
BEGIN:DAYLIGHT
TZOFFSETFROM:-0600
TZOFFSETTO:-0500
TZNAME:CDT
DTSTART:20260308T080000
END:DAYLIGHT
BEGIN:STANDARD
TZOFFSETFROM:-0500
TZOFFSETTO:-0600
TZNAME:CST
DTSTART:20261101T070000
END:STANDARD
END:VTIMEZONE
BEGIN:VEVENT
DTSTART;TZID=America/Chicago:20250118T073000
DTEND;TZID=America/Chicago:20250118T120000
DTSTAMP:20260422T002316
CREATED:20241107T182610Z
LAST-MODIFIED:20250107T021620Z
UID:407-1737185400-1737201600@nstssafety.org
SUMMARY:Confined Space Awareness Training - Spanish
DESCRIPTION:Overview\nConfined spaces—such as manholes\, crawl spaces\, and tanks\, are not designed for continuous occupancy and are difficult to exit in an emergency. Workers in confined spaces face life-threatening hazards\, including toxic substances\, electrocutions\, explosions\, and asphyxiation. \nCourse Content\n\nIntroduction to the course\nConfined Space Entry Program: Requirements & Responsibilities\nIdentifying Confined Spaces\nHazard Assessment\nEntry Permits\nWritten Entry\nStand by Person\nAtmospheric Testing\nVenting\, Purging\, Inserting\nLockout & Isolation\nWritten Course Assessment\n\nUpon completion of this course\, participants will be able to: \nDeveloped a clear understanding of the regulations and procedures required before entry into confined spaces. Participated in hands-on practice in safely using and caring for atmospheric testing equipment\, completing entry permits\, pre-entry planning\, and entering confined spaces. \nRecord of Training\nA certificate of participation will be issued.
URL:https://nstssafety.org/event/confined-space-awareness-training/
LOCATION:National Safety Training Solutions\, 12225 Greenville Ave.\, Dallas\, TX\, 75243\, United States
CATEGORIES:Construction Industry,In-person
END:VEVENT
END:VCALENDAR